BEGIN:VCALENDAR
VERSION:2.0
PRODID:-//Blackwater Irish Pub Winterberg - ECPv6.15.17.1//NONSGML v1.0//EN
CALSCALE:GREGORIAN
METHOD:PUBLISH
X-ORIGINAL-URL:https://blackwater-irishpub.de
X-WR-CALDESC:Veranstaltungen für Blackwater Irish Pub Winterberg
REFRESH-INTERVAL;VALUE=DURATION:PT1H
X-Robots-Tag:noindex
X-PUBLISHED-TTL:PT1H
BEGIN:VTIMEZONE
TZID:Europe/Berlin
BEGIN:DAYLIGHT
TZOFFSETFROM:+0100
TZOFFSETTO:+0200
TZNAME:CEST
DTSTART:20250330T010000
END:DAYLIGHT
BEGIN:STANDARD
TZOFFSETFROM:+0200
TZOFFSETTO:+0100
TZNAME:CET
DTSTART:20251026T010000
END:STANDARD
BEGIN:DAYLIGHT
TZOFFSETFROM:+0100
TZOFFSETTO:+0200
TZNAME:CEST
DTSTART:20260329T010000
END:DAYLIGHT
BEGIN:STANDARD
TZOFFSETFROM:+0200
TZOFFSETTO:+0100
TZNAME:CET
DTSTART:20261025T010000
END:STANDARD
BEGIN:DAYLIGHT
TZOFFSETFROM:+0100
TZOFFSETTO:+0200
TZNAME:CEST
DTSTART:20270328T010000
END:DAYLIGHT
BEGIN:STANDARD
TZOFFSETFROM:+0200
TZOFFSETTO:+0100
TZNAME:CET
DTSTART:20271031T010000
END:STANDARD
END:VTIMEZONE
BEGIN:VEVENT
DTSTART;TZID=Europe/Berlin:20261219T210000
DTEND;TZID=Europe/Berlin:20261219T210000
DTSTAMP:20260421T101445
CREATED:20251007T133933Z
LAST-MODIFIED:20251007T133933Z
UID:7595-1797714000-1797714000@blackwater-irishpub.de
SUMMARY:Gerry Calvin
DESCRIPTION:
URL:https://blackwater-irishpub.de/event/gerry-calvin-9/
CATEGORIES:Live Musik
ATTACH;FMTTYPE=image/jpeg:https://blackwater-irishpub.de/wp-content/uploads/2024/06/blackwater-irish-pub-winterberg-live-music-gerry-galvin.jpg
END:VEVENT
BEGIN:VEVENT
DTSTART;TZID=Europe/Berlin:20261226T210000
DTEND;TZID=Europe/Berlin:20261226T210000
DTSTAMP:20260421T101445
CREATED:20251007T133940Z
LAST-MODIFIED:20251007T133940Z
UID:7596-1798318800-1798318800@blackwater-irishpub.de
SUMMARY:Karaoke Party mit DJ Frank
DESCRIPTION:
URL:https://blackwater-irishpub.de/event/karaoke-party-mit-dj-frank-9/
LOCATION:Blackwater Irish Pub Winterberg\, Nuhnestrasse 2\, Winterberg\, 59955\, Germany
CATEGORIES:Karaoke,Live Musik
ATTACH;FMTTYPE=image/jpeg:https://blackwater-irishpub.de/wp-content/uploads/2024/06/blackwater-irish-pub-winterberg-live-music-frank-hoffmann-karaoke.jpg
ORGANIZER;CN="Blackwater Irish Pub Winterberg":MAILTO:blackwater.irishpubs@gmail.com
END:VEVENT
BEGIN:VEVENT
DTSTART;TZID=Europe/Berlin:20261231T210000
DTEND;TZID=Europe/Berlin:20261231T210000
DTSTAMP:20260421T101445
CREATED:20251110T110940Z
LAST-MODIFIED:20251110T111512Z
UID:7618-1798750800-1798750800@blackwater-irishpub.de
SUMMARY:Silvester Party mit The Limpets
DESCRIPTION:
URL:https://blackwater-irishpub.de/event/silvester-party-mit-the-limpets/
CATEGORIES:Live Musik,Party
ATTACH;FMTTYPE=image/jpeg:https://blackwater-irishpub.de/wp-content/uploads/2025/11/sylvester-2026.jpg
END:VEVENT
END:VCALENDAR