BEGIN:VCALENDAR
VERSION:2.0
PRODID:-//Blackwater Irish Pub Winterberg - ECPv6.15.17.1//NONSGML v1.0//EN
CALSCALE:GREGORIAN
METHOD:PUBLISH
X-WR-CALNAME:Blackwater Irish Pub Winterberg
X-ORIGINAL-URL:https://blackwater-irishpub.de
X-WR-CALDESC:Veranstaltungen für Blackwater Irish Pub Winterberg
REFRESH-INTERVAL;VALUE=DURATION:PT1H
X-Robots-Tag:noindex
X-PUBLISHED-TTL:PT1H
BEGIN:VTIMEZONE
TZID:Europe/Berlin
BEGIN:DAYLIGHT
TZOFFSETFROM:+0100
TZOFFSETTO:+0200
TZNAME:CEST
DTSTART:20250330T010000
END:DAYLIGHT
BEGIN:STANDARD
TZOFFSETFROM:+0200
TZOFFSETTO:+0100
TZNAME:CET
DTSTART:20251026T010000
END:STANDARD
BEGIN:DAYLIGHT
TZOFFSETFROM:+0100
TZOFFSETTO:+0200
TZNAME:CEST
DTSTART:20260329T010000
END:DAYLIGHT
BEGIN:STANDARD
TZOFFSETFROM:+0200
TZOFFSETTO:+0100
TZNAME:CET
DTSTART:20261025T010000
END:STANDARD
BEGIN:DAYLIGHT
TZOFFSETFROM:+0100
TZOFFSETTO:+0200
TZNAME:CEST
DTSTART:20270328T010000
END:DAYLIGHT
BEGIN:STANDARD
TZOFFSETFROM:+0200
TZOFFSETTO:+0100
TZNAME:CET
DTSTART:20271031T010000
END:STANDARD
END:VTIMEZONE
BEGIN:VEVENT
DTSTART;TZID=Europe/Berlin:20260704T210000
DTEND;TZID=Europe/Berlin:20260704T210000
DTSTAMP:20260421T115312
CREATED:20251007T131627Z
LAST-MODIFIED:20251007T131627Z
UID:7572-1783198800-1783198800@blackwater-irishpub.de
SUMMARY:Gerry Calvin
DESCRIPTION:
URL:https://blackwater-irishpub.de/event/gerry-calvin-5/
CATEGORIES:Live Musik
ATTACH;FMTTYPE=image/jpeg:https://blackwater-irishpub.de/wp-content/uploads/2024/06/blackwater-irish-pub-winterberg-live-music-gerry-galvin.jpg
END:VEVENT
BEGIN:VEVENT
DTSTART;TZID=Europe/Berlin:20260711T210000
DTEND;TZID=Europe/Berlin:20260711T210000
DTSTAMP:20260421T115312
CREATED:20251007T131636Z
LAST-MODIFIED:20251007T131636Z
UID:7571-1783803600-1783803600@blackwater-irishpub.de
SUMMARY:Stevie X Duo
DESCRIPTION:
URL:https://blackwater-irishpub.de/event/stevie-x-duo-7/
CATEGORIES:Live Musik
ATTACH;FMTTYPE=image/png:https://blackwater-irishpub.de/wp-content/uploads/2025/06/blackwater-irish-pub-winterberg-live-music-stevie-x.png
END:VEVENT
BEGIN:VEVENT
DTSTART;TZID=Europe/Berlin:20260718T210000
DTEND;TZID=Europe/Berlin:20260718T210000
DTSTAMP:20260421T115312
CREATED:20251110T174212Z
LAST-MODIFIED:20251110T174212Z
UID:7620-1784408400-1784408400@blackwater-irishpub.de
SUMMARY:Marys Bard
DESCRIPTION:
URL:https://blackwater-irishpub.de/event/marys-bard/
CATEGORIES:Live Musik
ATTACH;FMTTYPE=image/png:https://blackwater-irishpub.de/wp-content/uploads/2024/11/blackwater-irish-pub-winterberg-live-music-ohne-bild.png
END:VEVENT
BEGIN:VEVENT
DTSTART;TZID=Europe/Berlin:20260725T210000
DTEND;TZID=Europe/Berlin:20260725T210000
DTSTAMP:20260421T115312
CREATED:20251007T131659Z
LAST-MODIFIED:20251007T131659Z
UID:7570-1785013200-1785013200@blackwater-irishpub.de
SUMMARY:Phil Roberts
DESCRIPTION:
URL:https://blackwater-irishpub.de/event/phil-roberts-2/
CATEGORIES:Live Musik
ATTACH;FMTTYPE=image/jpeg:https://blackwater-irishpub.de/wp-content/uploads/2024/06/blackwater-irish-pub-winterberg-live-music-phil-roberts.jpg
END:VEVENT
END:VCALENDAR