BEGIN:VCALENDAR
VERSION:2.0
PRODID:-//Blackwater Irish Pub Winterberg - ECPv6.15.17.1//NONSGML v1.0//EN
CALSCALE:GREGORIAN
METHOD:PUBLISH
X-ORIGINAL-URL:https://blackwater-irishpub.de
X-WR-CALDESC:Veranstaltungen für Blackwater Irish Pub Winterberg
REFRESH-INTERVAL;VALUE=DURATION:PT1H
X-Robots-Tag:noindex
X-PUBLISHED-TTL:PT1H
BEGIN:VTIMEZONE
TZID:Europe/Berlin
BEGIN:DAYLIGHT
TZOFFSETFROM:+0100
TZOFFSETTO:+0200
TZNAME:CEST
DTSTART:20250330T010000
END:DAYLIGHT
BEGIN:STANDARD
TZOFFSETFROM:+0200
TZOFFSETTO:+0100
TZNAME:CET
DTSTART:20251026T010000
END:STANDARD
BEGIN:DAYLIGHT
TZOFFSETFROM:+0100
TZOFFSETTO:+0200
TZNAME:CEST
DTSTART:20260329T010000
END:DAYLIGHT
BEGIN:STANDARD
TZOFFSETFROM:+0200
TZOFFSETTO:+0100
TZNAME:CET
DTSTART:20261025T010000
END:STANDARD
BEGIN:DAYLIGHT
TZOFFSETFROM:+0100
TZOFFSETTO:+0200
TZNAME:CEST
DTSTART:20270328T010000
END:DAYLIGHT
BEGIN:STANDARD
TZOFFSETFROM:+0200
TZOFFSETTO:+0100
TZNAME:CET
DTSTART:20271031T010000
END:STANDARD
END:VTIMEZONE
BEGIN:VEVENT
DTSTART;TZID=Europe/Berlin:20260905T210000
DTEND;TZID=Europe/Berlin:20260905T210000
DTSTAMP:20260421T150253
CREATED:20251007T133323Z
LAST-MODIFIED:20251007T133323Z
UID:7579-1788642000-1788642000@blackwater-irishpub.de
SUMMARY:The Limpets
DESCRIPTION:
URL:https://blackwater-irishpub.de/event/the-limpets-6/
CATEGORIES:Live Musik
ATTACH;FMTTYPE=image/jpeg:https://blackwater-irishpub.de/wp-content/uploads/2024/06/blackwater-irish-pub-winterberg-live-music-the-limpets.jpg
END:VEVENT
BEGIN:VEVENT
DTSTART;TZID=Europe/Berlin:20260912T210000
DTEND;TZID=Europe/Berlin:20260912T210000
DTSTAMP:20260421T150253
CREATED:20251007T133332Z
LAST-MODIFIED:20251007T133332Z
UID:7580-1789246800-1789246800@blackwater-irishpub.de
SUMMARY:Owen Casey
DESCRIPTION:
URL:https://blackwater-irishpub.de/event/owen-casey-12/
CATEGORIES:Live Musik
ATTACH;FMTTYPE=image/jpeg:https://blackwater-irishpub.de/wp-content/uploads/2024/06/blackwater-irish-pub-winterberg-live-music-owen-casey.jpg
END:VEVENT
BEGIN:VEVENT
DTSTART;TZID=Europe/Berlin:20260919T210000
DTEND;TZID=Europe/Berlin:20260919T210000
DTSTAMP:20260421T150253
CREATED:20251007T133342Z
LAST-MODIFIED:20251007T133342Z
UID:7581-1789851600-1789851600@blackwater-irishpub.de
SUMMARY:Gerry Calvin
DESCRIPTION:
URL:https://blackwater-irishpub.de/event/gerry-calvin-6/
CATEGORIES:Live Musik
ATTACH;FMTTYPE=image/jpeg:https://blackwater-irishpub.de/wp-content/uploads/2024/06/blackwater-irish-pub-winterberg-live-music-gerry-galvin.jpg
END:VEVENT
BEGIN:VEVENT
DTSTART;TZID=Europe/Berlin:20260926T210000
DTEND;TZID=Europe/Berlin:20260926T210000
DTSTAMP:20260421T150253
CREATED:20251007T133354Z
LAST-MODIFIED:20251007T133354Z
UID:7582-1790456400-1790456400@blackwater-irishpub.de
SUMMARY:Karaoke Party mit DJ Frank
DESCRIPTION:
URL:https://blackwater-irishpub.de/event/karaoke-party-mit-dj-frank-6/
LOCATION:Blackwater Irish Pub Winterberg\, Nuhnestrasse 2\, Winterberg\, 59955\, Germany
CATEGORIES:Karaoke,Live Musik
ATTACH;FMTTYPE=image/jpeg:https://blackwater-irishpub.de/wp-content/uploads/2024/06/blackwater-irish-pub-winterberg-live-music-frank-hoffmann-karaoke.jpg
ORGANIZER;CN="Blackwater Irish Pub Winterberg":MAILTO:blackwater.irishpubs@gmail.com
END:VEVENT
END:VCALENDAR